BEGIN:VCALENDAR
PRODID://WordPress//Event-Post-V5.9.2//EN
VERSION:2.0
BEGIN:VTIMEZONE
TZID:Europe/Prague
BEGIN:DAYLIGHT
TZOFFSETFROM:+0100
TZOFFSETTO:+0200
DTSTART:19700329T020000
RRULE:FREQ=YEARLY;BYDAY=-1SU;BYMONTH=3
END:DAYLIGHT
BEGIN:STANDARD
TZOFFSETFROM:+0200
TZOFFSETTO:+0100
TZNAME:CET
DTSTART:19701025T030000
RRULE:FREQ=YEARLY;BYDAY=-1SU;BYMONTH=10
END:STANDARD
END:VTIMEZONE
BEGIN:VEVENT
SUMMARY:ČAZV je partnerem symposia CzechFoodChem 2026
UID:https://www.cazv.cz/cazv-je-partnerem-symposia-czechfoodchem-2026/
LOCATION:
DTSTAMP:20260525
DTSTART;TZID=Europe/Prague:20260525
DTEND;TZID=Europe/Prague:20260526
DESCRIPTION:Česká akademie zemědělských věd (ČAZV) se zapojuje jako partner do
mezinárodního symposia CzechFoodChem 2026, které se koná 25.–26. 5.
2026 v sálech ČSVTS, Novotného lávka 5, Praha 1. Akce propojuje
odborníky z akademické sféry, výzkumu i praxe a vytváří prostor pro
sdílení nejnovějších poznatků a zkušeností v oblasti
potravinářské chemie a souvisejících vědních oborů.
END:VEVENT
END:VCALENDAR