BEGIN:VCALENDAR
PRODID://WordPress//Event-Post-V5.9.2//EN
VERSION:2.0
BEGIN:VTIMEZONE
TZID:Europe/Prague
BEGIN:DAYLIGHT
TZOFFSETFROM:+0100
TZOFFSETTO:+0200
DTSTART:19700329T020000
RRULE:FREQ=YEARLY;BYDAY=-1SU;BYMONTH=3
END:DAYLIGHT
BEGIN:STANDARD
TZOFFSETFROM:+0200
TZOFFSETTO:+0100
TZNAME:CET
DTSTART:19701025T030000
RRULE:FREQ=YEARLY;BYDAY=-1SU;BYMONTH=10
END:STANDARD
END:VTIMEZONE
BEGIN:VEVENT
SUMMARY:Pozvánka na seminář "Digitalizace uhlíkové stopy v zemědělství a potravinářství a problematika EUDR"
UID:https://www.cazv.cz/pozvanka-na-seminar-digitalizace-uhlikove-stopy-v-zemedelstvi-a-potravinarstvi-a-problematika-eudr/
LOCATION:
DTSTAMP:20260514
DTSTART;TZID=Europe/Prague:20260514
DTEND;TZID=Europe/Prague:20260514
DESCRIPTION:Dovolujeme si Vás pozvat na interaktivní seminář "Digitalizace
uhlíkové stopy v zemědělství a potravinářství a problematika EUDR",
který pořádá ČAZV dne 14. 5. 2026. Odborným garantem akce je Odbor
ekonomiky, řízení, sociologie a informatiky (OEŘSI) ČAZV. Semináře
je možné se účastnit osobně i online.
END:VEVENT
END:VCALENDAR